BEGIN:VCALENDAR
VERSION:2.0
PRODID:-//wp-events-plugin.com//7.2.3.1//EN
TZID:America/Denver
X-WR-TIMEZONE:America/Denver
BEGIN:VEVENT
UID:18-6804@dance.colostate.edu
DTSTART;TZID=America/Denver:20160430T193000
DTEND;TZID=America/Denver:20160430T210000
DTSTAMP:20160420T215037Z
URL:https://dance.colostate.edu/events/alumni-dance-concert-2016-04-30/
SUMMARY:Alumni Dance Concert
DESCRIPTION:Former dance majors return to share their performance and chore
 ography in an electric evening of innovative dance presented by CSU dance 
 alumni guests. For a complete schedule of events\, including master classe
 s\, lecture/presentations\, and panel discussions\, click here.\n\nFor mo
 re information about the Alumni Dance Celebration\, as well as a list of
  alumni biographies\, click here.\n\nA Gala Reception follows the Friday
  night concert. To RSVP for the reception\, click here.
ATTACH;FMTTYPE=image/jpeg:https://www.libarts.colostate.edu/dance/wp-conte
 nt/uploads/sites/18/2015/02/Thomsen-Denna-3_CSU-Spring-Dance-Concert-2007.
 jpg
LOCATION:\, \, 
X-APPLE-STRUCTURED-LOCATION;VALUE=URI;X-ADDRESS=\, ;X-APPLE-RADIUS=100;X-TI
 TLE=:geo:0,0
END:VEVENT
BEGIN:VTIMEZONE
TZID:America/Denver
X-LIC-LOCATION:America/Denver
BEGIN:DAYLIGHT
DTSTART:20160313T030000
TZOFFSETFROM:-0700
TZOFFSETTO:-0600
TZNAME:MDT
END:DAYLIGHT
END:VTIMEZONE
END:VCALENDAR