BEGIN:VCALENDAR
VERSION:2.0
PRODID:-//wp-events-plugin.com//7.2.3.1//EN
TZID:America/Denver
X-WR-TIMEZONE:America/Denver
BEGIN:VEVENT
UID:18-17585@dance.colostate.edu
DTSTART;TZID=America/Denver:20230408T100000
DTEND;TZID=America/Denver:20230408T110000
DTSTAMP:20230404T015825Z
URL:https://dance.colostate.edu/events/csu-community-dance-class-2023-04-0
 8/
SUMMARY:CSU Community Dance Class
DESCRIPTION:Join faculty and students from CSU Dance for FREE classes in a 
 variety of classical and contemporary dance forms.\nNo prior experience is
  needed. All levels ages 16+ are welcome!\nDate/Time:\nSelect Saturdays fr
 om 10-11 a.m.\, including:\n\n 	Jan. 28 Open-Styles Choreography with Prof
 essor Grace\n 	NO CLASS – Feb. 4 Body/Speak\n 	Feb. 10 (Friday at 6pm) H
 eels with Ruthie\n 	Feb. 11 Contemporary Hip Hop with Cassidy\n 	NO CLASS 
 – Feb. 18 VISIT DAY\n 	Feb 25 Jazz with Professor Julia Cooper\n 	March
  4 Hip Hop with Matt B and Jacqueline\n 	NO CLASS – March 11 Spring Brea
 k\n 	NO CLASS – March 18 Spring Break\n 	March 25 Ballet with Guest Arti
 st\, Hernan Justo\n 	April 1 Contemporary with Professor Madeline Harvey\n
  	NO CLASS – April 8\n 	NO CLASS – April 15 Spring Dance Concert\n 	Ap
 ril 22 Fundamentals of Swing with Chalina\n 	April 29 Lyrical Improvisatio
 n with Jackie Rose and Bryce O’Tierney\, featuring a live violinist AND
  Pointe Choreography with Anna-Noel\n 	NO CLASS – May 6 Capstone Concer
 t\n\nRequirements:\nMust complete one time Engagement Form \nList Activit
 y Type as "Community Dance."\nRecommendations:\nDress to move (athletic or
  gym wear) with ballet slippers\, jazz shoes\, modern toe paws\, non-grip 
 socks\, or barefoot. Bring a friend!\nTestimonials:\n“During a very str
 essful few months I was actually looking forward to Friday afternoons. I e
 njoyed meeting staff and faculty from other units in CLA who I would have 
 never otherwise met. This was such a fun offering…” April Lingren\n\n
 “I’ve had so much fun and love learning new technique in jazz\, ballet
  and modern as well as your mini dance history lessons… I appreciate tha
 t the class is challenging but not overwhelming. I’ve taken adult dance 
 classes before that taught choreography that moved so slowly that I got bo
 red. I have been meaning to sign up for an adult dance class for years now
  and this one is so convenient and affordable!” Ella Bowers\n\n“I’ve
  loved attending and learning about different dance styles\, and I believe
  studying dance helps my musicianship. I have also gotten to connect with 
 faculty and staff from other departments in the CLA through this class\, a
 nd it inspires collegiality at CSU… In particular\, the class has given 
 me ideas of possible faculty collaborations between music and dance that c
 ould lead to interdisciplinary arts courses.” Dr. Abigail Shupe\n\nFor q
 uestions\, email Grace Gallagher or Madeline Harvey.
ATTACH;FMTTYPE=image/jpeg:https://www.libarts.colostate.edu/dance/wp-conte
 nt/uploads/sites/18/2021/08/05070_00795.jpg
CATEGORIES:College of Liberal Arts Featured Events
LOCATION:Dance Studio 101\, University Center for the Arts\, 1400 Remington
  St.\, Fort Collins\, CO\, 80524\, United States
GEO:40.5692704;-105.07477849999998
X-APPLE-STRUCTURED-LOCATION;VALUE=URI;X-ADDRESS=1400 Remington St.\, Fort C
 ollins\, CO\, 80524\, United States;X-APPLE-RADIUS=100;X-TITLE=Dance Studi
 o 101\, University Center for the Arts:geo:40.5692704,-105.07477849999998
END:VEVENT
BEGIN:VTIMEZONE
TZID:America/Denver
X-LIC-LOCATION:America/Denver
BEGIN:DAYLIGHT
DTSTART:20230312T030000
TZOFFSETFROM:-0700
TZOFFSETTO:-0600
TZNAME:MDT
END:DAYLIGHT
END:VTIMEZONE
END:VCALENDAR