BEGIN:VCALENDAR
VERSION:2.0
PRODID:-//wp-events-plugin.com//7.2.3.1//EN
TZID:America/Denver
X-WR-TIMEZONE:America/Denver
BEGIN:VEVENT
UID:18-13705@dance.colostate.edu
DTSTART;TZID=America/Denver:20190601T140000
DTEND;TZID=America/Denver:20190601T153000
DTSTAMP:20200416T154817Z
URL:https://dance.colostate.edu/events/embodiment/
SUMMARY:Embodiment
DESCRIPTION:Join us for a dance film and discussion about the embodiment of
  emotional availability and relationships during pregnancy. Collaborators
  Dr. Zeynep Biringen\, Marjo Flykt\, Brian Buss\, and Madeline Harvey sh
 are their process for an interdisciplinary creative research project.
ATTACH;FMTTYPE=image/jpeg:https://www.libarts.colostate.edu/dance/wp-conte
 nt/uploads/sites/18/2019/05/Embodiment-8.jpg
CATEGORIES:College of Liberal Arts Featured Events
LOCATION:University Dance Theatre\, University Center for the Arts\, 1400 R
 emington St.\, Fort Collins\, CO\, 80524\, United States
GEO:40.5692704;-105.07477849999998
X-APPLE-STRUCTURED-LOCATION;VALUE=URI;X-ADDRESS=1400 Remington St.\, Fort C
 ollins\, CO\, 80524\, United States;X-APPLE-RADIUS=100;X-TITLE=University 
 Dance Theatre\, University Center for the Arts:geo:40.5692704,-105.0747784
 9999998
END:VEVENT
BEGIN:VTIMEZONE
TZID:America/Denver
X-LIC-LOCATION:America/Denver
BEGIN:DAYLIGHT
DTSTART:20190310T030000
TZOFFSETFROM:-0700
TZOFFSETTO:-0600
TZNAME:MDT
END:DAYLIGHT
END:VTIMEZONE
END:VCALENDAR