BEGIN:VCALENDAR
VERSION:2.0
PRODID:-//wp-events-plugin.com//7.2.3.1//EN
TZID:America/Denver
X-WR-TIMEZONE:America/Denver
BEGIN:VEVENT
UID:18-13021@dance.colostate.edu
DTSTART;TZID=America/Denver:20180915T090000
DTEND;TZID=America/Denver:20180915T103000
DTSTAMP:20241015T185336Z
URL:https://dance.colostate.edu/events/jerri-kumery-advanced-ballet-master
 class/
SUMMARY:Jerri Kumery\, Advanced Ballet Masterclass
DESCRIPTION:CSU Dance invites intermediate to advanced students and profess
 ionals to attend a FREE Ballet masterclass with Jerry Kumery\, Ballet Mast
 er\, Richmond Ballet Curator\, Salvatore Aiello Trust Répétiteur\, The G
 eorge Balanchine Trus. Participants must be age 11 or older with a minimum
  of four years of ballet training.
ATTACH;FMTTYPE=image/jpeg:https://www.libarts.colostate.edu/dance/wp-conte
 nt/uploads/sites/18/2018/08/Jerri-Kumery.jpg
CATEGORIES:College of Liberal Arts Featured Events
LOCATION:Dance Studio 101\, University Center for the Arts\, 1400 Remington
  St.\, Fort Collins\, CO\, 80524\, United States
GEO:40.5692704;-105.07477849999998
X-APPLE-STRUCTURED-LOCATION;VALUE=URI;X-ADDRESS=1400 Remington St.\, Fort C
 ollins\, CO\, 80524\, United States;X-APPLE-RADIUS=100;X-TITLE=Dance Studi
 o 101\, University Center for the Arts:geo:40.5692704,-105.07477849999998
END:VEVENT
BEGIN:VTIMEZONE
TZID:America/Denver
X-LIC-LOCATION:America/Denver
BEGIN:DAYLIGHT
DTSTART:20180311T030000
TZOFFSETFROM:-0700
TZOFFSETTO:-0600
TZNAME:MDT
END:DAYLIGHT
END:VTIMEZONE
END:VCALENDAR